BEGIN:VCALENDAR
VERSION:2.0
PRODID:icalendar-ruby
CALSCALE:GREGORIAN
METHOD:PUBLISH
BEGIN:VEVENT
DTSTAMP:20260425T152617Z
UID:175-1106637@clckuna.com
DTSTART;VALUE=DATE:20260517
DTEND;VALUE=DATE:20260517
CLASS:PUBLIC
CREATED:20260421T100912
DESCRIPTION:This is a fundraiser to help with youth camp costs and for summ
 er activities. We will have baked goods for sale in the lobby\, after 1st 
 and 2nd service.
LAST-MODIFIED:20260421T100912
LOCATION:Changed Life Church
SUMMARY:Youth Bake Sale
URL;VALUE=URI:https://changedlifechurch.com/events/youth-bake-sale/2026-05-
 17
ATTACH;FILENAME=bake sale.jpg;FMTTYPE=image/jpeg:https://dq5pwpg1q8ru0.clou
 dfront.net/2026/04/21/16/09/12/1d0e7913-bc51-4a78-8999-70ed922ce2d4/bake%2
 0sale.jpg
END:VEVENT
END:VCALENDAR
