BEGIN:VCALENDAR
VERSION:2.0
PRODID:icalendar-ruby
CALSCALE:GREGORIAN
METHOD:PUBLISH
BEGIN:VEVENT
DTSTAMP:20260420T160111Z
UID:168-1101268@clckuna.com
DTSTART:20261014T003000Z
DTEND:20261014T013000Z
CLASS:PUBLIC
CREATED:20260420T074805
DESCRIPTION:Join a group of people every Tuesday as they dive into theology
  books and studies.  The books vary from time to time\, so contact Dave H
 ibbard about the upcoming or current study.  They meet in the Youth Cente
 r Room number 1.  \nDave:  (661) 978-6276  or at:  dhibbard2001@gmail.
 com
LAST-MODIFIED:20260420T074805
LOCATION:Youth Center Room 1
SUMMARY:Men's and Women's Book Study
URL;VALUE=URI:https://changedlifechurch.com/events/mens-and-womens-book-stu
 dy/2026-10-13
ATTACH;FILENAME=book study.jpg;FMTTYPE=image/jpeg:https://dq5pwpg1q8ru0.clo
 udfront.net/2026/02/25/17/47/45/23aed98c-9004-4a13-94e5-9d204e325217/book%
 20study.jpg
END:VEVENT
END:VCALENDAR
